BEGIN:VCALENDAR
VERSION:2.0
PRODID:https://github.com/derhansen/sf_event_mgt
METHOD:PUBLISH
BEGIN:VEVENT
UID:709-5013@www.eah-jena.de
CLASS: PUBLIC
SUMMARY:Sensordatenerfassung mit ESP8266/ESP32 und ESPHome (Workshop)
DESCRIPTION:Microcontroller der ESP8266 und ESP32-Familie bieten eine einfa
 che und kostengünstige Platform, um Sensordaten wie Temperatur, Feuchtigkei
 t, Helligkeit etc. aufzunehmen, zu verarbeiten und an externe Systeme zur A
 uswertung zu senden.\n\n\n\nEine Datenerfassung mit automatischer Auswertun
 g bietet sich bereits ab einer frühen Projektphase an, um systematisch Einb
 licke in das Verhalten eines Systems zu gewinnen und nicht nur auf sporadis
 ches, manuelles Messen wichtiger Parameter angewiesen zu sein.\n\n\n\nNur s
 cheitern solche Vorhaben oft am Programmieraufwand. Dieser Workshop führt d
 ich ein in ESPHome (https://esphome.io), eine Low-Code/No-Code-Umgebung für
  die Entwicklung von maßgeschneiderter Firmware. Damit kannst du ohne große
 n Aufwand eine Microcontroller-Lösung für deine Sensorik erstellen.\n\n\n\n
 Wir wollen im Workshop am praktischen Beispiel Temperaturwerte erfassen, si
 e mit einem ESP32-Board vorverarbeiten und an ein Backend-System zur Auswer
 tung senden.\n\n\n\nInhalte:\n\nÜberblick über das ESPHome-ProjektStruktur 
 der YAML-KonfigurationsdateiKommunikation über MQTT\n\n\n\nKeine Programmie
 rkenntnisse notwendig! Bitte bringe einen Laptop mit vorinstallierter Docke
 r-Umgebung mit. ESP32-Boards werden gestellt.\n\n\n\nBitte beachten: Die An
 meldung erfolgt über die Uni Jena (bitte hier klicken).
LOCATION:Ernst-Abbe-Hochschule Jena, StartUpLab (Haus 4, Etage 0, Raum 04.0
 0.21)
DTSTAMP:20260420T140028Z
DTSTART:20260701T110000Z
DTEND:20260701T130000Z
END:VEVENT
END:VCALENDAR
