BEGIN:VCALENDAR
VERSION:2.0
PRODID:https://github.com/derhansen/sf_event_mgt
METHOD:PUBLISH
BEGIN:VEVENT
UID:687-5013@www.eah-jena.de
CLASS: PUBLIC
SUMMARY:Finanzplanung – Online Workshop – StarTH now
DESCRIPTION:Referent: Jan Adams. Als Co-Gründer und Geschäftsführer der Ini
 tiative Pflegehof GmbH realisiert Jan mit seinen Mitstreiter:innen innovati
 ve Wohn-Pflege-Konzepte für ältere Menschen mit Pflegebedarf und insbesonde
 re Demenz. Gemeinsam entstauben sie den deutschen Pflegesektor und wischen 
 einmal feucht durch. Aus eigener Erfahrung kennt er die Herausforderungen d
 es Gründungsalltags gut. Und Jan weiß, wie inspirierend, stärkend, wunderba
 r und gleichzeitig kräfteraubend er sein kann. Deshalb hat er Informationen
  und Fähigkeiten zusammengetragen, die er selbst als Gründer gerne früher g
 ehabt hätte.\n\nDatum: 2. Juli 2026, 13:30 Uhr bis 16:30 Uhr\n\nZum Worksho
 p:Du hast eine Gründungsidee und möchtest wissen, wie du diese finanziell t
 ragfähig aufstellen kannst? In diesem Workshop bringen wir Ordnung in deine
  Zahlen. Wir lernen den Unterschied zwischen Existenzgründungen und Start-u
 ps kennen, sortieren die Chancen und Herausforderungen unterschiedlicher Ge
 schäftsmodelle und sprechen über passende Finanzierungsmöglichkeiten. Darüb
 er hinaus erfährst du, wie du deine Finanzen richtig planst, was ein Finanz
 plan für dich tun kann und was diesen richtig gut macht. Zahlen lösen bei d
 ir Herzrasen aus? Keine Sorge, dieser Workshop ist für alle Gründungsintere
 ssierte offen. Hinweis: Dieser Workshop ist interaktiv. Das bedeutet, dass 
 du nicht nur zuhören, sondern auch gleich selbst aktiv werden kannst. Dazu 
 benötigst du während des Workshops Zugriff auf ein Tabellenkalkulationsprog
 ramm wie bspw. Microsoft Excel.Workshop Anmeldung
DTSTAMP:20260409T133702Z
DTSTART:20260702T113000Z
DTEND:20260702T143000Z
END:VEVENT
END:VCALENDAR
