BEGIN:VCALENDAR
VERSION:2.0
PRODID:https://github.com/derhansen/sf_event_mgt
METHOD:PUBLISH
BEGIN:VEVENT
UID:690-5013@www.eah-jena.de
CLASS: PUBLIC
SUMMARY:Vertrieb innovativer Produkte & Dienstleistungen – Online Workshop 
 – StarTH now
DESCRIPTION:Referent:  Matthias Frieling. Matthias Frieling ist Experte für
  Kommunikation und Sales Management in den Bereichen Kultur, Bildung und Ps
 ychologie. Nach seinem Studium der Musikwissenschaft, Germanistik und evang
 elischen Theologie arbeitete er in der Öffentlichkeitsarbeit der Hochschule
  für Musik Weimar und war später Leiter des Künstlerischen Betriebsbüros am
  Mainfrankentheater Würzburg.\n\nDurch seine Erfahrung in Kommunikation, Pu
 blikumskontakt und Vertrieb weiß er, wie sich auch komplexe oder neue Angeb
 ote verständlich vermitteln und überzeugend präsentieren lassen – eine wich
 tige Grundlage für den Vertrieb innovativer Produkte und Ideen.\n\nDatum: 2
 . Juni 2026, 13:30 Uhr bis 16:30 Uhr\n\nZum Workshop:Du hast eine innovativ
 e Gründungsidee – aber beim Thema Vertrieb wirst du plötzlich still? In die
 sem Workshop räumen wir mit Mythen rund ums „Verkaufen“ auf und zeigen dir,
  was Vertrieb in frühen Gründungsphasen wirklich bedeutet. Denn viele Ideen
  scheitern nicht am Produkt, sondern daran, dass niemand systematisch mit p
 otenziellen Kund*innen spricht.\n\nGemeinsam klären wir den Unterschied zwi
 schen Marketing, Vertrieb und Kundenentwicklung, werfen einen ehrlichen Bli
 ck auf typische Denkfehler akademisch geprägter Teams und entwickeln erste 
 realistische Schritte für deinen eigenen Vertriebsansatz. Du lernst, wie du
  Vertrauen aufbaust, Verkaufsgespräche strukturierst, Nutzen überzeugend fo
 rmulierst, mit Einwänden umgehst und Preise selbstbewusst verhandelst – ohn
 e Druck, ohne Show, ohne „Hard Selling“.\n\nDabei geht es nicht um perfekte
  Pitches oder Skalierungsstrategien, sondern um Orientierung, Entmystifizie
 rung und konkrete Handlungsfähigkeit. Vertrieb verstehen wir als Lern- und 
 Kommunikationsprozess – nicht als „Verkaufen um jeden Preis“.\n\nHinweis: D
 er Workshop ist interaktiv. Das bedeutet, dass du nicht nur zuhörst, sonder
 n deine eigene Idee (oder ein Beispiel) reflektierst und erste Vertriebsans
 ätze entwickelst. Offen für alle Gründungsinteressierten in frühen Phasen –
  besonders geeignet für alle, die beim Thema Vertrieb bisher eher Bauchschm
 erzen als Begeisterung verspüren.Workshop Anmeldung
DTSTAMP:20260409T133455Z
DTSTART:20260602T113000Z
DTEND:20260602T143000Z
END:VEVENT
END:VCALENDAR
