BEGIN:VCALENDAR
VERSION:2.0
PRODID:https://github.com/derhansen/sf_event_mgt
METHOD:PUBLISH
BEGIN:VEVENT
UID:688-5013@www.eah-jena.de
CLASS: PUBLIC
SUMMARY:Smarter gründen mit KI – Online Workshop – StarTH now
DESCRIPTION:Referent:  Jonas Mielke, HIKE Nordhausen. Jonas Mielke ist Grün
 dungscoach am Hochschulinkubator HIKE in Nordhausen und unterstützt Gründer
 :innen bei der Entwicklung und Umsetzung ihrer Ideen. Ein besonderer Schwer
 punkt seiner Arbeit liegt auf der Nutzung von Künstlicher Intelligenz im Gr
 ündungsprozess.\n\nEr studierte Mechatronik an der TU Dresden und war ansch
 ließend bei der Fraunhofer-Gesellschaft sowie in einem Softwareunternehmen 
 im Bereich Digitalisierung tätig.\n\nDatum: 7. Mai 2026, 13:30 Uhr bis 15:3
 0 Uhr\n\nZum Workshop:\n\nKI klingt für dich als Gründer*in nach Raketenwis
 senschaft statt echtem Mehrwert? In diesem Workshop zeigen wir dir, wie dic
 h generative KI ganz konkret in frühen Gründungsphasen unterstützen kann – 
 pragmatisch, verständlich und ohne technisches Vorwissen.\n\nWir klären zu 
 Beginn, wie Tools wie ChatGPT, Gemini oder Perplexity grundlegend „denken“ 
 und worauf es beim Prompting wirklich ankommt. Statt Theorie steht die Anwe
 ndung im Fokus. Du probierst aus, wie KI dich bei Wettbewerbsanalysen, Idee
 npapieren, Nutzerinterviews oder der Schärfung deines Geschäftsmodells unte
 rstützen kann. Dabei verstehen wir KI als zusätzliches Teammitglied – als S
 parringspartner, Strukturgeber und Beschleuniger. Zum Abschluss bekommst du
  eine klare Orientierung: Welches Tool passt zu welcher typischen Gründungs
 aufgabe?\n\nDer Workshop ist interaktiv. Du arbeitest an deiner eigenen Ide
 e oder an einem Beispiel und entwickelst direkt umsetzbare Ansätze für dein
 en Gründungsalltag. Vorkenntnisse sind nicht erforderlich.Workshop Anmeldun
 g
DTSTAMP:20260409T133425Z
DTSTART:20260507T113000Z
DTEND:20260507T143000Z
END:VEVENT
END:VCALENDAR
