BEGIN:VCALENDAR
VERSION:2.0
PRODID:https://github.com/derhansen/sf_event_mgt
METHOD:PUBLISH
BEGIN:VEVENT
UID:708-5013@www.eah-jena.de
CLASS: PUBLIC
SUMMARY:Laser als Werkzeug in der Fertigungstechnik (Workshop)
DESCRIPTION:In der modernen Fertigungstechnik sind Laser als universelles T
 ool unverzichtbar geworden. Von der Beschriftung der Bio-Mango auf dem Flie
 ßband bis zum Schneiden von Stahlplatten sind vielfältigste Anwendungen mög
 lich. Der Workshop richtet sich an technisch Interessierte und Maker, welch
 e Laserprozesse in ihre eigenen Projekte integrieren möchten. Der Workshop 
 gibt einen Überblick über die Bandbreite der verschiedenen Anwendungen und 
 zeigt Möglichkeiten auf, wie selbst kostengünstige Desktop-Lösungen in tech
 nischen Projekten angewendet werden können. Tiefgreifende Vorkenntnisse sin
 d nicht nötig.\n\n\n\nInhalte:\n\n- Einführung in die theoretischen Grundla
 gen der Lasermaterialbearbeitung\n\n- Diskussion von Anwendungsfeldern von 
 Lasern als vielseitige Werkzeuge in der Fertigungstechnik\n\n- Live-Demonst
 ration der vorhandenen Anlagentechnik\n\n- Hands-On Beispiele und Umsetzung
  eigener Ideen\n\n- Beschriftung ausgewählter, mitgebrachter Werkstücke mög
 lich\n\n\n\nBitte beachten: Die Anmeldung erfolgt über die Uni Jena (bitte 
 hier klicken).
LOCATION:Ernst-Abbe-Hochschule Jena, StartUpLab (Haus 4, Etage 0, Raum 04.0
 0.21)
DTSTAMP:20260420T135105Z
DTSTART:20260624T113800Z
DTEND:20260624T130000Z
END:VEVENT
END:VCALENDAR
