BEGIN:VCALENDAR
VERSION:2.0
PRODID:https://github.com/derhansen/sf_event_mgt
METHOD:PUBLISH
BEGIN:VEVENT
UID:704-5013@www.eah-jena.de
CLASS: PUBLIC
SUMMARY:Introduction to Arduino Microcontrollers (Workshop)
DESCRIPTION:Programming a microcontroller is easy! In this workshop, we wil
 l take first steps with Arduino. You will get hands-on experience on simple
  microcontroller applications.\n\nArduino is a great platform for prototypi
 ng. You will learn how to implement simple control logic and state displays
 . This may serve as a good start for putting a microcontroler at work in yo
 ur own project.\n\nThe workshop will also provide you with a brief overview
  of different microcontroller families and what they are good for. This wil
 l help you to switch platforms if your project’s development hits some limi
 tations of the Arduino platform.\n\nThis workshop assumes basic knowledge i
 n C/C++ programming. No previous experience with microcontrollers is expect
 ed. Please bring your laptop and install the Arduino environment from https
 ://arduino.cc in advance. We will provide Arduino development boards.\n\nWo
 rkshop language: English\n\nPlease note: The registration ist handled by th
 e University of Jena (please click here)\n\n\n\n\n\n
LOCATION:Ernst-Abbe-Hochschule Jena, StartUpLab (Haus 4, Etage 0, Raum 04.0
 0.21)
DTSTAMP:20260418T010333Z
DTSTART:20260506T110000Z
DTEND:20260506T130000Z
END:VEVENT
END:VCALENDAR
