BEGIN:VCALENDAR
VERSION:2.0
PRODID:https://github.com/derhansen/sf_event_mgt
METHOD:PUBLISH
BEGIN:VEVENT
UID:707-5013@www.eah-jena.de
CLASS: PUBLIC
SUMMARY:Crashkurs öffentliche Kommunikation (Workshop)
DESCRIPTION:Was wirklich zählt – und was man weglassen kann\n\nÖffentliche 
 Kommunikation ist für Projekte, Institutionen und Unternehmen heute oft unv
 erzichtbar. Gleichzeitig bleibt die Frage: Wie lässt sich das neben dem Tag
 esgeschäft sinnvoll leisten? Welche Formate, Tools und Kanäle braucht es wi
 rklich – und was kann man weglassen? Der Workshop richtet sich an alle, die
  in ihrem Team oder Vorhaben kommunikative Aufgaben übernehmen (wollen) – o
 b in Forschung, Projektkontext oder Startup. Im Zentrum steht der Überblick
 : Welche Aspekte von Kommunikation sind für das eigene Vorhaben relevant? W
 as ist schon da, was fehlt noch? Ausgehend vom eigenen Projekt arbeiten wir
  mit kurzen Übungen und gezielter Selbstreflexion. So erarbeiten wir Verstä
 ndnis dafür, wie Kommunikation strukturiert und priorisiert werden kann – u
 nd wo es sich lohnt, tiefer einzusteigen. Der Workshop ist interaktiv und a
 nwendungsorientiert. Vorkenntnisse sind nicht nötig. Wer kann, bringt ein e
 igenes Vorhaben oder eine Idee mit.\n\nBitte beachten: Die Anmeldung erfolg
 t über die Uni Jena (bitte hier klicken).
LOCATION:Ernst-Abbe-Hochschule Jena, StartUpLab (Haus 4, Etage 0, Raum 04.0
 0.21)
DTSTAMP:20260418T010208Z
DTSTART:20260617T110000Z
DTEND:20260617T130000Z
END:VEVENT
END:VCALENDAR
