BEGIN:VCALENDAR
VERSION:2.0
PRODID:https://github.com/derhansen/sf_event_mgt
METHOD:PUBLISH
BEGIN:VEVENT
UID:706-5013@www.eah-jena.de
CLASS: PUBLIC
SUMMARY:3D-Druck als nützlicher Helfer im Alltag (Workshop)
DESCRIPTION:Ein 3D-Drucker als Ergänzung zu Bohrmaschine, Laubsäge und Co? 
 Mit der heutigen Vielfalt der am Markt verfügbaren 3D-Drucker ist die Erwei
 terung der Hobby-Werkstatt mittlerweile für jeden realisierbar. Ob technisc
 he Anwendungen wie Ersatzteile, Weihnachtsgeschenke für die Eltern oder nüt
 zliche Gadgets für den Alltag - 3D-Druck bietet unzählige Möglichkeiten. De
 r Workshop richtet sich an Maker und technisch Interessierte, die ihren Hor
 izont erweitern möchten und eventuell sogar über die Anschaffung eines eige
 nen 3D-Druckers nachdenken. Im Workshop werden Anwendungsbeispiele diskutie
 rt, Vor- und Nachteile von verschiedenen Prinzipien beschrieben sowie in ei
 nem praktischen Teil Haushaltsgadgets nach Wahl vor Ort gedruckt. Vorkenntn
 isse im Bereich 3D-Druck sind nicht nötig.\n\n \n\nInhalte:\n\n- kurze Einf
 ühren in die Thematik 3D-Druck\n\n- Anwendungen für 3D-Druck im persönliche
 n Alltag\n\n- Live-Demonstration der vorhandenen Anlagentechnik\n\n- Hands-
 On Beispiele und Umsetzung eigener Ideen\n\n 
LOCATION:Ernst-Abbe-Hochschule Jena, StartUpLab (Haus 4, Etage 0, Raum 04.0
 0.21)
DTSTAMP:20260418T010233Z
DTSTART:20260610T110000Z
DTEND:20260610T130000Z
END:VEVENT
END:VCALENDAR
