BEGIN:VCALENDAR
VERSION:2.0
PRODID:https://github.com/derhansen/sf_event_mgt
METHOD:PUBLISH
BEGIN:VEVENT
UID:504-3955@www.eah-jena.de
CLASS: PUBLIC
SUMMARY:Smartboard-Schulungen
DESCRIPTION:DozentIn: \n\nL. Guth\n\nMit dem Angebot einer Basis Schulung z
 u den interaktiven Tafeln möchten wir allen Lehrenden einen einfachen Einst
 ieg in dieses Thema ermöglichen. Im Workshop bekommen Sie die grundlegenden
  Funktionen der interaktiven Tafeln gezeigt und können jederzeit auch selbs
 t ausprobieren.\n\nInhalt:\n\nLernen Sie das Ein- und Ausschalten und das k
 orrekte Anmelden am SmartboardLernen Sie die verschiedene Verbindungsmöglic
 hkeiten kennen, vor allem die kabellosen (Clevershare, Cynap)Lernen Sie, wi
 e Sie das Smartboard als Beamerersatz nutzenNavigieren Sie durch das Menü u
 nd zu den unterschiedlichen Apps die das Smartboard zur Verfügung stelltVer
 stehen Sie den Unterschied zwischen den zwei Systemen (Android und Windows)
  und erkennen deren VorteileNutzen Sie das Smartboard als Tafelersatz und s
 peichern Sie das Tafelbild direkt ab oder stellen es den Studierenden gleic
 h als Datei zur Verfügung\n\nAm 25.03.2026 werden 4 feste Termine (je 60 Mi
 n) angeboten, zu denen Sie sich via Terminplaner (Link wird in der Anmeldeb
 estätigung mitgeteilt) anmelden können. \n\nTermin 1: 08:00 bis 09:00 UhrTe
 rmin 2: 09:30 bis 10:30 UhrTermin 3: 13:00 bis 14:00 UhrTermin 4: 14:30 bis
  15:30 Uhr\n\nDie Schulungen werden zu Beginn eines jeden Semesters angebot
 en, können aber auch individuell oder für Arbeitsgruppen angefragt werden.
LOCATION:in Präsenz, Raum wird noch bekannt gegeben
DTSTAMP:20260330T152109Z
DTSTART:20260325T070000Z
DTEND:20260325T143000Z
END:VEVENT
END:VCALENDAR
