BEGIN:VCALENDAR
VERSION:2.0
PRODID:https://github.com/derhansen/sf_event_mgt
METHOD:PUBLISH
BEGIN:VEVENT
UID:666-3955@www.eah-jena.de
CLASS: PUBLIC
SUMMARY:Selbstlernkurs Hochschuldidaktik für Lehrende
DESCRIPTION:DozentIn:\n\nS. Dietzel und Dr. K. Freund\n\nDer Kurs richtet s
 ich zum einen an Lehrende mit wenig Lehrerfahrung, die sich grundlegend mit
  Hochschuldidaktik beschäftigen möchten. Zum anderen können Dozierende unte
 rschiedlicher Erfahrungsstufen nach Bedarf einzelne Module und Themen auswä
 hlen, um die eigene Lehre gezielt weiterzuentwickeln.\n\nInhalt:\n\nLernzie
 le und Kompetenzbereiche Lehrveranstaltungen planen Gute Beziehungsgestaltu
 ng in der Lehre Methoden zur Aktivierung Feedback lernprozessbegleitend ges
 talten Prüfen, Bewerten und Betreuen \n\nDer Selbstlernkurs kann als hochsc
 huldidaktische Weiterbildung mit 1 Tag (6h) anerkannt werden, wenn alle 6 A
 bschlusstests absolviert und 4 von 6 Tests mit jeweils 80% der Gesamtpunktz
 ahl erreicht wurden. Mehr dazu erfahren Sie im Einführungsteil des Selbstle
 rnkurses. \n\nSchauen Sie gerne in die einzelnen Module oder den gesamten K
 urs und lassen Sie sich inspirieren. 
LOCATION:online (Zugangslink wird in Eingangsbestätgiung mitgeteilt)
DTSTAMP:20260211T124520Z
DTSTART:20260101T144900Z
DTEND:20261231T144900Z
END:VEVENT
END:VCALENDAR
