BEGIN:VCALENDAR
VERSION:2.0
PRODID:https://github.com/derhansen/sf_event_mgt
METHOD:PUBLISH
BEGIN:VEVENT
UID:665-3955@www.eah-jena.de
CLASS: PUBLIC
SUMMARY:Neuberufenen-Beratung
DESCRIPTION:Für neuberufene Professor:innen werden jeweils drei Beratungsge
 spräche über einen Zeitraum von ca.1,5 Jahren angeboten, um ihre Wünsche un
 d Bedarfe mit Blick auf die Lehre zu ermitteln. Die Bedarfsermittlung stell
 t die Grundlage für individuelle Unterstützungsangebote und auch zukünftige
  Workshopthemen dar. Im Vorfeld des ersten Beratungsgesprächs wird ein kurz
 er Fragebogen zur Verfügung gestellt, welcher sich an DigCompEdu orientiert
 , um neben Fragen zur allgemeinen Hochschuldidaktik auch Wünsche und Bedarf
 e auf dem Gebiet der digital bereicherten Lehre zu ermitteln.
DTSTAMP:20260114T120440Z
DTSTART:20260101T144900Z
DTEND:20261231T144900Z
END:VEVENT
END:VCALENDAR
