BEGIN:VCALENDAR
VERSION:2.0
PRODID:https://github.com/derhansen/sf_event_mgt
METHOD:PUBLISH
BEGIN:VEVENT
UID:495-3955@www.eah-jena.de
CLASS: PUBLIC
SUMMARY:Moodle Basic - Einführung
DESCRIPTION:Dozent: \n\nP. Mimietz \n\nIm Workshop erlernen Sie die grundle
 genden Funktionen von Moodle für den Einsatz in der Lehre.\n\nInhalt:\n\nMo
 odle-Login, -Logout und -ProfilMoodle-Aufbau, -Elemente und NavigationMoodl
 e-Kurse und KursbereicheStrukturierung und Einrichtung des Moodle-Kursraums
 Grundlegende Moodle-Aktivitäten und -ArbeitsmaterialienTeilnehmer-Verwaltun
 g, Einschreibemethoden und Moodle-Rollen
LOCATION:online im BBB-Raum (Link wird in Eingangsbestätigung per Mail mitg
 eteilt)
DTSTAMP:20260330T152101Z
DTSTART:20260312T080000Z
DTEND:20260312T110000Z
END:VEVENT
END:VCALENDAR
