BEGIN:VCALENDAR
VERSION:2.0
PRODID:https://github.com/derhansen/sf_event_mgt
METHOD:PUBLISH
BEGIN:VEVENT
UID:567-3955@www.eah-jena.de
CLASS: PUBLIC
SUMMARY:Moodle Advanced: Lernstandskontrolle und Bewertungen in Moodle
DESCRIPTION:Dozent: S. Homer\n\nIm Workshop erfahren Sie, wie das Bewertung
 ssystem von Moodle funktioniert. Sie lernen, wie Sie Leistungen von Studier
 enden bewerten, Teilleistungen zu einer Gesamtbewertung zusammenfassen und 
 Bewertungen unter Wahrung des Datenschutzes für Studierende veröffentlichen
 .\n\nInhalt:\n\nBewertungsmethoden, Bewertungskategorien, SkalenBewertungen
  vornehmen in den Aktivitäten Aufgabe und TestBewertungen datenschutzkonfor
 m veröffentlichenBewertungsvorlagen erstellenPraktische Szenarien
LOCATION:online im BBB-Raum (Link wird in Eingangsbestätigung per Mail mitg
 eteilt)
DTSTAMP:20260330T152103Z
DTSTART:20260313T080000Z
DTEND:20260313T120000Z
END:VEVENT
END:VCALENDAR
