BEGIN:VCALENDAR
VERSION:2.0
PRODID:https://github.com/derhansen/sf_event_mgt
METHOD:PUBLISH
BEGIN:VEVENT
UID:664-3955@www.eah-jena.de
CLASS: PUBLIC
SUMMARY:Kollegialer Austausch@EAH - Gemeinsam Lösungen finden
DESCRIPTION:Koordination und Moderation\n\nS. Dietzel und Dr. K. Freund\n\n
 Kurzbeschreibung\n\nSeit Herbst 2022 gibt es das Angebot der Kollegialen Be
 ratung im Format "Kollegialer Austausch@EAH: Gemeinsam Lösungen finden" an 
 der Ernst-Abbe-Hochschule Jena. Da unabhängig vom eigenen Fachgebiet für Le
 hrende häufig ähnliche Fragestellungen und Herausforderungen in der Lehre a
 uftreten, möchten wir mit dem Format den Lehrenden die Möglichkeit bieten, 
 strukturiert über diese Fragestellungen in einer Gruppe von 4-8 Personen in
 s Gespräch zu kommen. Der Dialog im Kollegium und ein Perspektivwechsel kön
 nen zur schnellen Lösungsfindung beitragen. Mit der Kollegialen Beratung so
 ll der Austausch auf Augenhöhe sowie fachbereichsübergreifend an der Ernst-
 Abbe-Hochschule Jena gefördert und in einem professionellen Format mit den 
 Rollen Fallgeber:in, Berater:in und Moderator:in begleitet werden. \n\nDeta
 ils\n\nWer kann teilnehmen? \n\nDas Angebot richtet sich an alle Lehrende. 
 Aktuell gibt es an der EAH Jena eine Interessensgruppe, die in wechselnder 
 Besetzung die Kollegiale Beratung bereits 6 mal durchgeführt hat. Unser Zie
 l ist es, den Kreis der Interessenten am Angebot der Kollegialen Beratung s
 tetig zu erweitern. Da sich die Zusammensetzung der Gruppe in jeder Runde e
 twas verändert und das Format diese Flexibilität zulässt, ist ein Einstieg 
 zu jedem Zeitpunkt möglich.\n\nWelchen Mehrwert hat die Teilnahme an einer 
 Kollegialen Beratung? \n\nDie Methode basiert darauf, dass Herausforderunge
 n und Schwierigkeiten aus dem beruflichen Alltag gemeinsam mit Kolleg:innen
  gelöst werden können.Die Kollegiale Beratung läuft in einem strukturierten
  Gespräch ab.Einen wertvollen Fundus bilden die vielfältigen Perspektiven, 
 Erfahrungen und Ideen der Beteiligten.Die Beteiligten begegnen sich offen, 
 wohlwollend und lösungsorientiert.Die Beratung trägt dazu bei, Belastungen 
 zu vermindern und beruflich erfolgreicher zu handeln.Unabhängig von den Vor
 teilen der Methode, können Sie sich die Teilnahme auf die 10 hochschuldidak
 tischen Tage anrechnen lassen. \n\nWo gibt es weitere Informationen? \n\nBe
 i Interesse können Sie sich gerne schon im Vorfeld über die Methode Kollegi
 ale Beratung auf der Website Kollegiale Beratung (eah-jena.de) vom Projekt 
 INSPIRE informieren. Dort finden Sie ein 3 minütiges Erklärvideo, einen Abl
 aufplan, systemische Fragetypen und Methoden für die Beratungsphase. \n\nDi
 e Vorbereitung auf das Format ist keine Teilnahmevoraussetzung. Wir machen 
 eine Kurzeinführung zu Beginn jeder Kollegialen Beratung, um neue Teilnehme
 nde abzuholen. \n\nDie nächste Fallberatung findet am 05.03.26 statt.
LOCATION:Raum 05.01.57
DTSTAMP:20260330T152059Z
DTSTART:20260305T120000Z
DTEND:20260305T130000Z
END:VEVENT
END:VCALENDAR
