BEGIN:VCALENDAR
VERSION:2.0
PRODID:https://github.com/derhansen/sf_event_mgt
METHOD:PUBLISH
BEGIN:VEVENT
UID:682-3955@www.eah-jena.de
CLASS: PUBLIC
SUMMARY:KI@eTeach: Weiterbildung zu KI in der Lehre 2026
DESCRIPTION:In den kostenlosen KI-Intensivwochen des eTeach-Netzwerk Thürin
 gen vom 16. bis 27. März 2026 erhalten Lehrende an Thüringer Hochschulen ei
 ne praxisnahe Einführung in aktuelle KI-Tools und konkrete Einsatzszenarien
  für ihre Lehre – von Ethik, Datenschutz und Barrierefreiheit über Prüfen b
 is zur Lehrvorbereitung. Jede Veranstaltung kombiniert Input, Austausch und
  eine praxisnahe Hands-On-Übung (Zertifikat inklusive).\n\nOnline-Format üb
 er BigBlueButtonTägliche Module vom 16. - 27. März 2026, immer von 13:00 – 
 14:30 Uhr10 Module à 1,5 Stunden (einzeln buchbar)\n\nInhalt der 10 Module:
 \n\n1. KI-Grundlagen | 16.03.20262. Prüfungsaufgaben mit KI verbessern: pas
 sgenau, valide, taxonomisch | 17.03.20263. KI - Ethik & Nachhaltigkeit | 18
 .03.20264. Barrierefreiheit durch KI | 19.03.20265. KI in der Hochschullehr
 e | 20.03.20266. KI-Vernetzungstreffen | 23.03.20267. Schreiben mit generat
 iver KI | 24.03.20268. Kursplanung mit KI | 25.03.20269. Urheberrecht und D
 atenschutz in der Praxis | 26.03.202610. KI prüfungsrechtlich betrachtet | 
 27.03.2026\n\n\n\nMehr Informationen sowie den Link zur Anmeldung gibt es a
 uf der Website:                                                            
      \n\nKI@eTeach: Weiterbildung zu KI in der Lehre 2026 · Veranstaltungsr
 eihen · Veranstaltungs-Manager der Bauhaus-Universität Weimar - Congeno
LOCATION:online
DTSTAMP:20260330T152105Z
DTSTART:20260316T120000Z
DTEND:20260327T133000Z
END:VEVENT
END:VCALENDAR
