BEGIN:VCALENDAR
VERSION:2.0
PRODID:https://github.com/derhansen/sf_event_mgt
METHOD:PUBLISH
BEGIN:VEVENT
UID:660-3955@www.eah-jena.de
CLASS: PUBLIC
SUMMARY:Interkulturalität im Hochschulalltag - Wenn akademische Kulturen au
 feinandertreffen
DESCRIPTION:DozentIn: \n\nN. Reichel\n\nDer Workshop richtet sich an Lehren
 de, Prüfungsamt-Mitarbeitende und Beratende die mit internationalen Studier
 enden arbeiten und ihre Lehre und ihre Arbeit im internationalen Kontext re
 flektieren und weiterentwickeln möchten. Im Mittelpunkt steht nicht ein kla
 ssisches Sensibilisierungs- oder Kommunikationstraining, sondern eine diffe
 renzierte Betrachtung der akademischen Praxis in Deutschland im internation
 alen Vergleich.\n\nDie deutsche Hochschulkultur weist in Bezug auf Selbstst
 ändigkeit, Leistungsanforderungen, Prüfungsformate und Lehr-Lern-Verständni
 sse Besonderheiten auf, die für internationale Studierende eine erhebliche 
 Herausforderung darstellen können. Gleichzeitig stehen Lehrende häufig vor 
 der Aufgabe, mit unterschiedlichen Erwartungshaltungen und Lernbiografien u
 mzugehen, was im Lehralltag zu Irritationen oder Überforderung führen kann.
 \n\nDer Workshop macht die wechselseitigen Erwartungen, Rollenbilder und in
 stitutionellen Rahmenbedingungen transparent und eröffnet damit einen Raum 
 für Verständnis, Reflexion und konstruktiven Umgang mit Vielfalt.\n\nInhalt
 : \n\nBesonderheiten der deutschen Hochschul- und Lehrkultur im internation
 alen VergleichUnterschiedliche akademische Sozialisationen und Lernverständ
 nisse internationaler StudierenderErwartungshaltungen von Lehrenden, Hochsc
 hulmitarbeitenden und Studierenden: Wo entstehen Missverständnisse?Typische
  Herausforderungen im Lehr- und PrüfungsalltagChancen internationaler Studi
 erendengruppen für Lehre und LernprozesseEntwicklung praxisnaher Lösungsans
 ätze und Handlungsmöglichkeiten
LOCATION:Raum 05.01.45
DTSTAMP:20260330T152057Z
DTSTART:20260304T080000Z
DTEND:20260304T110000Z
END:VEVENT
END:VCALENDAR
