BEGIN:VCALENDAR
VERSION:2.0
PRODID:https://github.com/derhansen/sf_event_mgt
METHOD:PUBLISH
BEGIN:VEVENT
UID:663-3955@www.eah-jena.de
CLASS: PUBLIC
SUMMARY:Individuelles Lehrenden-Coaching
DESCRIPTION:DozentIn:\n\nP. Forster\n\nBeschreibung:\n\nSeit ca. 14 Jahren 
 können Sie sich an der EAH Jena von dem erfahrenen Lehrenden-Coach Pit Fors
 ter beraten lassen. Ziel des Individuellen Lehrenden-Coachings ist die indi
 viduelle, passgenaue und bedarfsgerechte Unterstützung für Ihre Lehre!\n\nU
 m das individuelle Ziel zu erreichen und Ihren  Entwicklungsprozess optimal
  zu unterstützen, setzt Herr Forster ein selbst entwickeltes und vielfach e
 rprobtes Modell mit den 5 Kompetenzfeldern (Struktur und Dynamik, Inhaltlic
 he Kompetenz, Mindset und Fokus, Medieneinsatz und Anschaulichkeit, Persönl
 iche Präsenz) und dazugehörige Beobachtungs- und Feedbackbögen ein.\n\nDas 
 Coaching verläuft in 3 Etappen, daher sind 3 Termine pro Lehrperson innerha
 lb einer Woche einzuplanen: \n\n1h Vorbereitungsgespräch1,5h Veranstaltungs
 besuch durch Coach1,5h Feedback-Gespräch.  \n\nDer nächste Zeitraum für das
  Coaching ist festgelegt. Sie können sich ab sofort gern verbindlich anmeld
 en.\n\nDas Coaching wird im Rahmen der hochschuldidaktischen Weiterbildung 
 für Neuberufene an der EAH Jena anerkannt.
LOCATION:wird noch bekannt gegeben
DTSTAMP:20260114T130016Z
DTSTART:20261123T070000Z
DTEND:20261127T163000Z
END:VEVENT
END:VCALENDAR
