BEGIN:VCALENDAR
VERSION:2.0
PRODID:https://github.com/derhansen/sf_event_mgt
METHOD:PUBLISH
BEGIN:VEVENT
UID:661-3955@www.eah-jena.de
CLASS: PUBLIC
SUMMARY:H5P Vertiefung: Eigene Ideen weiterentwickeln und gemeinsam umsetze
 n
DESCRIPTION:DozentIn: Dr. Anja Hager\n\nH5P ist eine Software zur Erstellun
 g von interaktiven Lerninhalten, welche über eine Schnittstelle in ein Lern
 managementsystem (z.B. Moodle) eingebunden werden können. Beispielsweise la
 ssen sich mit H5P Quizzes in Videos integrieren, digitale Lernkarten gestal
 ten oder interaktive Lernpakete mit vielfältigen Übungen entwickeln.\n\nIm 
 Rahmen des Vertiefungs-Kurses haben die Teilnehmenden die Möglichkeit eigen
 e H5P Ideen zu entwickeln und zu erstellen. Sie können unter Anleitung an i
 hren eigenen H5P Inhalten arbeiten und so die vielfältigen Möglichkeiten mi
 t H5P selbst erleben und vertiefen. Außerdem werden Fragen rund um H5P besp
 rochen, die während der Erstellung oder schon vorher aufkommen.Wir empfehle
 n dieses Vertiefungsseminar Lehrenden, die bereits die Grundlagen von H5P k
 ennen und intensiver an der Erstellung konkreter H5P Inhalte arbeiten wolle
 n. \n\nInhalt:• Austausch über bisherige H5P Erfahrungen• eigene H5P Ideen 
 umsetzen• Identifizierung geeigneter H5P Elemente für die eigene Lehre• Bes
 prechung offener Fragen zu H5P
LOCATION:online im BBB-Raum (Link wird in Eingangsbestätigung per Mail mitg
 eteilt)
DTSTAMP:20260330T152106Z
DTSTART:20260318T080000Z
DTEND:20260318T110000Z
END:VEVENT
END:VCALENDAR
