BEGIN:VCALENDAR
VERSION:2.0
PRODID:https://github.com/derhansen/sf_event_mgt
METHOD:PUBLISH
BEGIN:VEVENT
UID:568-3955@www.eah-jena.de
CLASS: PUBLIC
SUMMARY:H5P Einführung: Interaktive Lehr- und Lernmaterialien mit H5P erste
 llen
DESCRIPTION:DozentIn: Dr. Anja Hager\n\nH5P ist eine Software zur Erstellun
 g von interaktiven Lerninhalten, welche über eine Schnittstelle in ein Lern
 managementsystem (z.B. Moodle) eingebunden werden können. Beispielsweise la
 ssen sich mit H5P Quizzes in Videos integrieren, digitale Lernkarten gestal
 ten oder interaktive Lernpakete mit vielfältigen Übungen entwickeln.Im Rahm
 en des Einführungs-Kurses erhalten die Teilnehmenden einen generellen Überb
 lick über H5P und lernen die Grundlagen kennen, wie sie selbst einfache H5P
  Inhalte erstellen können. Außerdem wird diskutiert, inwieweit H5P didaktis
 ch sinnvoll in der Lehre eingesetzt werden kann. Das Seminar eignet sich fü
 r Lehrende, die zum ersten Mal mit H5P arbeiten. Im Anschluss an dieses Sem
 inar folgt ein Vertiefungsseminar zu H5P, in dem der Fokus auf der konkrete
 n Erstellung eigener H5P Inhalte liegt.\n\nInhalt:\n\nÜberblick über H5PKen
 nenlernen verschiedener interaktiver Lernformate mit H5PIntegrieren von H5P
 -Inhalten im Moodle-RaumErstellen von interaktiven Elementendidaktisch sinn
 voller Einsatz von H5P in Lehre
LOCATION:online im BBB-Raum (Link wird in Eingangsbestätigung per Mail mitg
 eteilt)
DTSTAMP:20260330T152056Z
DTSTART:20260224T080000Z
DTEND:20260224T110000Z
END:VEVENT
END:VCALENDAR
