BEGIN:VCALENDAR
VERSION:2.0
PRODID:https://github.com/derhansen/sf_event_mgt
METHOD:PUBLISH
BEGIN:VEVENT
UID:662-3955@www.eah-jena.de
CLASS: PUBLIC
SUMMARY:Barrierefreiheit in der Lehre - Prüfungen und Lehre inklusiv(er) ge
 stalten
DESCRIPTION:DozentIn: Dr. J. Kuhlmann\n\nDer Workshop gibt eine Einführung 
 in den Themenbereich Barrierefreiheit in Studium, Lehre und Prüfungen. Es w
 erden zentrale Begrifflichkeiten im Themenbereich (einschließlich „Menschen
  mit Behinderung“, „Barrierefreiheit“ und „Diskriminierung“) besprochen. Da
 ran schließt sich ein Überblick über die wichtigsten rechtlichen Grundlagen
  des Themenbereichs an, der vermittelt, welche Konventionen, Gesetze, Richt
 linien und Verordnungen von der internationalen bis zur lokalen Ebene für d
 en Hochschulbereich in Hinblick auf Inklusion und Barrierefreiheit wesentli
 ch sind. Außerdem wird ein Einblick in Zahlen und Formen von Beeinträchtigu
 ngen unter Studierenden in Deutschland gegeben. \n\nEinfache Tipps sowie In
 formationen zu Unterstützungsangeboten sollen den Teilnehmenden den Umgang 
 mit verschiedenen Situationen erleichtern und mit einfachen Hinweisen dazu 
 anregen, Lehrveranstaltungen, Prüfungen und andere Studienkontexte künftig 
 von vornherein zugänglich(er) zu gestalten. Dabei erhalten die Teilnehmende
 n auch einen Einblick, wie man Leistungsnachweise und Prüfungsformate von B
 eginn an inklusiv bzw. mittels Nachteilsausgleiche chancengleich gestalten 
 kann. \n\nDie Diversitätsbeauftragte der EAH Jena wird zusätzlich Einblick 
 in den Prozess des Nachteilsausgleichs an der Hochschule geben.  \n\nInhalt
 :\n\nBarrierefreiheit – Verständnis und DefinitionRechtlicher Rahmen an Hoc
 hschulen im Bereich Studium und BehinderungHäufig auftretende Beeinträchtig
 ungen und spezifische UnterstützungsmöglichkeitenPlanung und Kommunikation 
 künftiger Lehrveranstaltungen und Prüfungen Empfehlungen und didaktische Ti
 pps
LOCATION:online im BBB-Raum (Link wird in Eingangsbestätigung per Mail mitg
 eteilt)
DTSTAMP:20260330T152108Z
DTSTART:20260324T080000Z
DTEND:20260324T110000Z
END:VEVENT
END:VCALENDAR
