BEGIN:VCALENDAR
VERSION:2.0
PRODID:https://github.com/derhansen/sf_event_mgt
METHOD:PUBLISH
BEGIN:VEVENT
UID:655-5075@www.eah-jena.de
CLASS: PUBLIC
SUMMARY:10. Tag der Gesunden Arbeit 2026
DESCRIPTION:\n\n2026 feiern wir ein besonderes Jubiläum – den 10. Tag der G
 esunden Arbeit!Die Jubiläumsveranstaltung findet am 07. Oktober 2026 an der
  Ernst-Abbe-Hochschule Jena statt.Freuen Sie sich schon jetzt auf inspirier
 ende Beiträge, spannende Begegnungen und ein Wiedersehen im feierlichen Rah
 men. Weitere Informationen folgen. 
DTSTAMP:20260331T115005Z
DTSTART:20261007T080000Z
DTEND:20261007T130000Z
END:VEVENT
END:VCALENDAR
