BEGIN:VCALENDAR
VERSION:2.0
PRODID:https://github.com/derhansen/sf_event_mgt
METHOD:PUBLISH
BEGIN:VEVENT
UID:698-2170@www.eah-jena.de
CLASS: PUBLIC
SUMMARY:Veranstaltungsreihe Karrierewege: Studienabbruch - Wie geht es weit
 er und welche Alternativen gibt es?
DESCRIPTION:In der Veranstaltung wollen wir dir Informationen an die Hand g
 eben, was nach dem Studienabbruch und dem damit verbundenen Statuswechsel z
 u tun ist. Dabei geht es u.a. um Versicherungen und Finanzierungsmöglichkei
 ten, aber auch um eine Neuorientierung in einem anderen beruflichen Feld. H
 ierfür haben wir Experten eingeladen, die über ihren Weg nach dem Studienab
 bruch berichten, dir aber auch Optionen für den eigenen Weg aufzeigen könne
 n.\n\nEs wird drei Themenblöcke geben und im Anschluss haben wir genug Zeit
  für Fragen und Austausch.\n\nDuale Ausbildung/Schulische Ausbildung/Duales
  StudiumQuereinstieg in ein UnternehmenÜberbrückungsmöglichkeiten/Praktika/
 Orientierung- und Selbsterkundung\n\nFür diese Veranstaltung setzen wir in 
 unserem Konzept auf Anonymität. Heißt: Anders als in anderen Formaten sind 
 Name und Bild innerhalb dieser Veranstaltung uninteressant. Gib daher bitte
  beim Einloggen in den Veranstaltungsraum einfach ein Pseudonym ein und las
 s die Kamera ausgeschaltet. Fragen können entweder per Ton oder über den Ch
 at gestellt werden. Wir möchten dir so einen möglichst unkomplizierten Zuga
 ng ermöglichen.\n\nReferent*innenThomas Klose • Studienberatung FSU Jena, B
 ettina Beck, Silke Borowka • Arbeitsagentur Jena, Franziska Stang • Career 
 Service EAH JenaZeit12.00 – 14.00 UhrSprachedeutschAnmeldungEine Anmeldung 
 ist nicht erforderlich.Meeting-Linkhttps://uni-jena-de.zoom-x.de/j/69338746
 781Meeting-ID: 693 3874 6781Kenncode: 281736
DTSTAMP:20260330T085525Z
DTSTART:20260720T100000Z
DTEND:20260720T120000Z
END:VEVENT
END:VCALENDAR
