BEGIN:VCALENDAR
VERSION:2.0
PRODID:https://github.com/derhansen/sf_event_mgt
METHOD:PUBLISH
BEGIN:VEVENT
UID:696-2170@www.eah-jena.de
CLASS: PUBLIC
SUMMARY:Veranstaltungsreihe Karrierewege: Residence Perimts for internation
 al students ans graduates
DESCRIPTION:• What should I know to organise my permit? • Which permits are
  relevant for me? • Am I allowed to work during and/or after my studies?\n\
 nSpeakerRubén Ignacio González Tinoco • Thüringer Agentur für Fachkräftegew
 innung (ThAFF)Time3.15 – 4.15 pmVenueonlineLanguageEnglish Registrationhttp
 s://moodle.stud.eah-jena.de/mod/scheduler/view.php?id=328905 
DTSTAMP:20260330T120744Z
DTSTART:20260520T131500Z
DTEND:20260520T141500Z
END:VEVENT
END:VCALENDAR
