BEGIN:VCALENDAR
VERSION:2.0
PRODID:https://github.com/derhansen/sf_event_mgt
METHOD:PUBLISH
BEGIN:VEVENT
UID:692-2170@www.eah-jena.de
CLASS: PUBLIC
SUMMARY:Veranstaltungsreihe Karrierewege: Nicht nur was für Überflieger*inn
 en! Dein Weg zum Deutschlandstipendium
DESCRIPTION:Die Veranstaltung bietet dir einen Überblick über das Deutschla
 ndstipendium an der EAH Jena und gibt Raum für deine Fragen:\n\nWelche Vort
 eile hat das Stipendium?Wer kann gefördert werden?Wie bewerbe ich mich?Wie 
 erfolgt der Auswahlprozess an der EAH Jena?\n\nInformiere dich im Vorfeld a
 uf der Internetseite des Deutschlandstipendiums: www.eah-jena.de/deutschlan
 dstipendium    \n\nReferentinFranziska Stang • Career ServiceUhrzeit15:30 –
  16:30 UhrOrt01.02.11Sprachedeutsch (Bei Bedarf kann auf Englisch übersetzt
  werden.)AnmeldungKomm gern vorbei. Eine Anmeldung ist nicht erforderlich.
DTSTAMP:20260416T102549Z
DTSTART:20260422T133000Z
DTEND:20260422T143000Z
END:VEVENT
END:VCALENDAR
