BEGIN:VCALENDAR
VERSION:2.0
PRODID:https://github.com/derhansen/sf_event_mgt
METHOD:PUBLISH
BEGIN:VEVENT
UID:697-2170@www.eah-jena.de
CLASS: PUBLIC
SUMMARY:Veranstaltungsreihe Karrierewege: Meet your future Employer - Your 
 Entry into the Thuringian Job Market
DESCRIPTION:Experience fascinating insights into everyday company life thro
 ugh informative presentations and take the opportunity to ask questions dir
 ectly to the experts.\n\nIn addition to introducing the participating compa
 nies as exciting employers, they will also discuss how to best make initial
  contact with the companies and what support they can offer international s
 tudents in particular in their everyday lives.\n\nJoin us and make valuable
  contacts for your professional future! We look forward to seeing you!\n\nT
 his event is organized as a joint initiative in collaboration with the proj
 ects FIT - Fostering International Talents en, ProTELCExterner Link, and Nu
 cleus JenaExterner Link, in partnership with the Career Services of Friedri
 ch Schiller University Jena and Ernst Abbe University of Applied Sciences J
 ena, as well as the Allianz Thüringer IngenieurwissenschaftenExterner Link 
 (Thuringian Engineering Alliance).\n\nBy participating in the event, you co
 nsent to your personal data being transferred to the DAAD in accordance wit
 h the applicable data protection regulations for the purpose of verifying a
 ppropriate expenditure, statistical evaluation and conducting a scholarship
  holder survey.\n\nOrganiserNatia Khorguashvili-Kinne • EAH Jena, Yuliia Da
 nyliuk • FSU Jena, Natalia Kluth • Nucleus JenaTime3.30 - 5.00 p.m.Venuelec
 ture hall 1 (03.03.01)LanguageEnglish (Questions can be asked in German, to
 o.)RegistrationRegistration is handled by Friedrich Schiller University Jen
 a.
DTSTAMP:20260402T074241Z
DTSTART:20260701T133000Z
DTEND:20260701T150000Z
END:VEVENT
END:VCALENDAR
