BEGIN:VCALENDAR
VERSION:2.0
PRODID:https://github.com/derhansen/sf_event_mgt
METHOD:PUBLISH
BEGIN:VEVENT
UID:694-2170@www.eah-jena.de
CLASS: PUBLIC
SUMMARY:Veranstaltungsreihe Karrierewege: Jena Digital Safari 2026
DESCRIPTION:Du steckst gerade zwischen Vorlesungen und Prüfungen, aber die 
 Zukunft ist noch offen? Du studierst dabei in einem tech-nahen Studiengang 
 wie Informatik, Wirtschaftsinformatik, E-Commerce oder Robotik? Dann ist da
 s genau der richtige Moment für die Jena Digital Safari.Am 5. Mai 2026 nehm
 en dich der Jena Digital e.V. und die Techniker Krankenkasse bei der Jena D
 igital Safari mit hinter die Kulissen der Jenaer Digitalwirtschaft. 6 Unter
 nehmen bieten dir echte Einblicke, direkte Gespräche und potenzielle Einsti
 egschancen. Folgende Unternehmen sind dabei:• Accenture GmbH• adesso SE• do
 tSource SE• GÖPEL electronic GmbH• Intershop Communications AG• JENOPTIK AG
 \n\nInteresse geweckt? Die Plätze sind begrenzt, also jetzt sichern!\n\nZei
 t10.00 - 19.00 UhrOrtTreffpunkt Jena Digital e.V. (Engelplatz 8, 07743 Jena
 )SprachedeutschAnmeldunghttps://jenadigitalsafari26.eventbrite.de\n\nBei Fr
 agen wende dich bitte an Franziska Stang vom Career Service (franziska.stan
 g@eah-jena.de). 
DTSTAMP:20260330T083726Z
DTSTART:20260505T080000Z
DTEND:20260505T170000Z
END:VEVENT
END:VCALENDAR
