BEGIN:VCALENDAR
VERSION:2.0
PRODID:https://github.com/derhansen/sf_event_mgt
METHOD:PUBLISH
BEGIN:VEVENT
UID:695-2170@www.eah-jena.de
CLASS: PUBLIC
SUMMARY:Veranstaltungsreihe Karrierewege: Gehaltsverhandlungen erfolgreich 
 meistern
DESCRIPTION:Inhalte:• Aufklärung zu struktureller Ungleichheit in der Bezah
 lung (GenderPayGap)• Marktwertanalyse & KI-Tools für ein realistisches Geha
 ltsziel• Gehaltsgespräch vorbereiten inkl. Ziele und Verhandlungsanker• Alt
 ernative Verhandlungsvariablen als Strategie definieren• Souverän auf Einwä
 nde & Totschlagargumente reagieren• Psychologische Grundlagen bei der Verha
 ndlungsführung und Kontrolle der eigenen Emotionen\n\nNach dem Vortrag weiß
 t du:• Warum es so wichtig ist, dass du dein Gehalt verhandelst.• Wie du de
 inen Marktwert fundiert ermittelst und mit Zahlen belegst.• Welche Rolle KI
 -Tools beim Gender Bias spielen.• Welche Verhandlungsstrategien du anwenden
  kannst, um faire Konditionen auszuhandeln und mit zusätzlichen Benefits zu
  verknüpfen.• Wie du deine Ängste und Bedenken für die ersten Gehaltsgesprä
 che abbaust und mehr innere Sicherheit gewinnst.\n\nReferentinJessica Kreuz
 er • Gehalt OffensiveUhrzeit15:30 – 17:30 UhrOrtonlineSprachedeutsch Anmeld
 unghttps://moodle.stud.eah-jena.de/mod/scheduler/view.php?id=328904 
DTSTAMP:20260330T120720Z
DTSTART:20260506T133000Z
DTEND:20260506T153000Z
END:VEVENT
END:VCALENDAR
