BEGIN:VCALENDAR
VERSION:2.0
PRODID:https://github.com/derhansen/sf_event_mgt
METHOD:PUBLISH
BEGIN:VEVENT
UID:693-2170@www.eah-jena.de
CLASS: PUBLIC
SUMMARY:Veranstaltungsreihe Karrierewege: Career Navigator: Trends, tools a
 ns insights for your application
DESCRIPTION:Learn about:• insights into the economy and job market in Thuri
 ngia• current trends and no-gos in the application process• structure and b
 asics of your application documents• strategies for successful unsolicited 
 applications• tips for online forms, email applications and social networks
 \n\nIf you would like to receive a short application portfolio check, pleas
 e bring a job advertisement from Thuringia as well as your prepared CV and 
 motivation letter.\n\nSpeakerJoanna Pawlaczek • Thüringer Agentur für Fachk
 räftegewinnung (ThAFF)Time3.30 – 5.30 pmVenue01.02.14LanguageEnglish Regist
 rationhttps://moodle.stud.eah-jena.de/mod/scheduler/view.php?id=328903 
DTSTAMP:20260330T120657Z
DTSTART:20260429T133000Z
DTEND:20260429T153000Z
END:VEVENT
END:VCALENDAR
