BEGIN:VCALENDAR
VERSION:2.0
PRODID:https://github.com/derhansen/sf_event_mgt
METHOD:PUBLISH
BEGIN:VEVENT
UID:700-2170@www.eah-jena.de
CLASS: PUBLIC
SUMMARY:Set up : Jena | Von der Idee zum Impact - Dein Fahrplan zum Innovat
 ionerfolg
DESCRIPTION:Im Mittelpunkt stehen aktuelle Trends, praxisnahe Impulse und i
 nterdisziplinäre Lösungsansätze aus Forschung, Transfer und Gründung. In Fa
 chvorträgen, interaktiven Workshops, Diskussionsformaten und Netzwerkgelege
 nheiten werden Ideen geteilt, Kompetenzen gestärkt und Kooperationen initii
 ert. „Set up: Jena“ schafft Raum für Vernetzung, Austausch und konkrete Pro
 jektentwicklung – mit dem Ziel, den Wissenstransfer aus der Wissenschaft in
  die Anwendung zu beschleunigen und die Innovationskraft der Region nachhal
 tig zu stärken.Wissenschaftlerinnen und Wissenschaftler, Transfer- und Inno
 vationsexpertinnen und -experten, Studierende, Gründerinnen und Gründer sow
 ie Vertreterinnen und Vertreter aus Wirtschaft, Politik und Gesellschaft si
 nd eingeladen, gemeinsam Potenziale zu erschließen, erfolgreiche Praxisbeis
 piele kennenzulernen und Impulse für neue Partnerschaften zu setzen.\n\nPro
 gramm und Anmeldung:Set up : Jena | Von der Idee zum Impact – Dein Fahrplan
  zum Innovationserfolg - Nucleus Jena - Motivation Innovation\n\nOrt:Norman
 nenhaus JenaForstweg 1207745 Jena\n\nDie Teilnahme an der Veranstaltung ist
  kostenlos.\n\nKontakt:ServiceZentrum Forschung und TransferDr. Monika Ludw
 igTel.: 03641 9402 150E-Mail: monika.ludwig@eah-jena.de\n\n\n\n\n\n\n\n\n\n
DTSTAMP:20260420T121301Z
DTSTART:20260507T123000Z
DTEND:20260507T190000Z
END:VEVENT
END:VCALENDAR
