BEGIN:VCALENDAR
VERSION:2.0
PRODID:https://github.com/derhansen/sf_event_mgt
METHOD:PUBLISH
BEGIN:VEVENT
UID:703-2170@www.eah-jena.de
CLASS: PUBLIC
SUMMARY:International University Week 2026 – Democracy and Human Rights
DESCRIPTION:Das Thema ist in diesem Jahr „Democracy and Human Rights“. Es g
 eht darum, welchen Beitrag Soziale Arbeit leisten kann, um angesichts globa
 ler autoritärer Entwicklungen Minderheitenrechte und demokratische Werte zu
  verteidigen. Mit Prof. Dr. Jens-Christian Wagner (Direktor der Stiftung Ge
 denkstätten Buchenwald und Mittelbau-Dora und Professor für Geschichte in M
 edien und Öffentlichkeit an der Friedrich-Schiller-Universität Jena) wurde 
 ein Keynote-Speaker gewonnen, der sich seit vielen Jahren auch praktisch in
  diesen Diskurs einbringt und hier in herausragender Weise Expertise und En
 gagement verbindet.\n\nDas IUW-Programm ist hier einsehbar: https://www.sw.
 eah-jena.de/international/international-university-week/iuw-2026-jena-incom
 ing/\n\nDie Organisation der IUW wird maßgeblich durch Studierende des Fach
 bereichs Sozialwesen geleistet. Zudem bringt sich das International Office 
 aktiv mit ein. Der Fachbereich Sozialwesen unterstützt zudem finanziell und
  mit Workshopangeboten die IUW.\n\nEröffnet wird die IUW am 20.04.2026 um 9
 :30 Uhr (Haus 5, Hörsaal 2) durch den Oberbürgermeister der Stadt Jena Dr. 
 Thomas Nitzsche. Außerdem wird Prof. Dr. Thomas Trenczek digitale Grußworte
  senden. Er begründete 1998 die Tradition der europäischen Zusammenarbeit i
 m Fachbereich Sozialwesen.\n\n\n\n\n\n
DTSTAMP:20260416T131400Z
DTSTART:20260419T073000Z
DTEND:20260424T150000Z
END:VEVENT
END:VCALENDAR
