BEGIN:VCALENDAR
VERSION:2.0
PRODID:https://github.com/derhansen/sf_event_mgt
METHOD:PUBLISH
BEGIN:VEVENT
UID:678-2170@www.eah-jena.de
CLASS: PUBLIC
SUMMARY:21. Jenaer Akustik-Tag
DESCRIPTION:Geräusche, Schwingungen und Lärm spielen in sehr unterschiedlic
 hen Bereichen eine große Rolle, so auch in der Bauphysik. An der Bauhaus-Un
 iversität Weimar gibt es dazu einen eigenen Lehrstuhl mit einer extra Arbei
 tsgruppe Akustik. Dr. Albert Vogel wird einen Überblick über die akustische
 n Forschungsschwerpunkte und die spezialisierte Ausstattung an Messtechnik 
 geben. \n\nEbenfalls von allgemeinem Interesse sind akustische Begleitersch
 einungen bei Windkraftanlagen. Auch wenn inzwischen bekannt ist, dass Infra
 schall teilweise überbewertet wurde, ergeben sich durch immer größere und v
 or allem höhere Anlagen neue Fragen. Dazu wird Moritz Krauß von der GICON-G
 roßmann Ingenieur Consult GmbH vortragen. Die Firma GICON ist an Planung un
 d Realisierung von Anlagen mit Nabenhöhen bis 300 m beteiligt. \n\nAn der E
 rnst-Abbe-Hochschule Jena konnte im Herbst ein Prüfstand für Axialventilato
 ren in Betrieb genommen werden. Durch den Aufbau der Prüfkammer im schallar
 men Halbraum ergibt sich der Vorteil, strömungsmechanische Kenngrößen und d
 as akustische Verhalten der Ventilatoren gleichzeitig untersuchen zu können
 . Von den ersten Erfahrungen mit den neuen Möglichkeiten werden Nils Leimba
 ch und Sebastian Paul aus dem Fachbereich Maschinenbau berichten. \n\nInfor
 mationen zu weiteren spannenden Vorträgen entnehmen Sie bitte dem Programm 
 auf unserer Webseite. (Link, rechts in der Sidebar)\n\nWie gewohnt werden a
 uch Anbieter akustischer Messtechnik in der Aula vertreten sein. Nach den V
 orträgen besteht die Möglichkeit zu Laborführungen. Schallarmer Halbraum un
 d Hallraum sind zu erleben. Im Bereich Medizintechnik sind Versuche und Tes
 ts rund um das Ohr zu sehen.\n\nAm 29. April 2026, ab 13 Uhr wird diese Tag
 ung zum 21. Mal stattfinden. Ort ist wieder die Aula der Ernst-Abbe-Hochsch
 ule Jena. Die Veranstaltung wird vom Fachbereich Maschinenbau organisiert. 
 Bei der Vorbereitung sind u.a. Vertreter des Universitätsklinikums der Frie
 drich-Schiller[1]Universität Jena beteiligt.\n\nDie Teilnahme ist kostenlos
 .\n\nFür Rückfragen stehen zur Verfügung: Prof. Jörg-Henry Schwabe, Bernhar
 d Kühn\n\n(0 36 41 / 205-377, bernhard.kuehn@eah-jena.de)\n\n\n\n
LOCATION:Ernst-Abbe-Hochschule Jena, Carl-Zeiss-Promenade 2 / Aula (Haus 4,
  Raum 1.1)
DTSTAMP:20260319T071045Z
DTSTART:20260429T110000Z
DTEND:20260429T160000Z
END:VEVENT
END:VCALENDAR
